BEGIN:VCALENDAR
VERSION:2.0
PRODID:-//BSW Münster - ECPv6.15.12.2//NONSGML v1.0//EN
CALSCALE:GREGORIAN
METHOD:PUBLISH
X-WR-CALNAME:BSW Münster
X-ORIGINAL-URL:https://bsw-muenster.de
X-WR-CALDESC:Veranstaltungen für BSW Münster
REFRESH-INTERVAL;VALUE=DURATION:PT1H
X-Robots-Tag:noindex
X-PUBLISHED-TTL:PT1H
BEGIN:VTIMEZONE
TZID:Europe/Berlin
BEGIN:DAYLIGHT
TZOFFSETFROM:+0100
TZOFFSETTO:+0200
TZNAME:CEST
DTSTART:20160327T010000
END:DAYLIGHT
BEGIN:STANDARD
TZOFFSETFROM:+0200
TZOFFSETTO:+0100
TZNAME:CET
DTSTART:20161030T010000
END:STANDARD
BEGIN:DAYLIGHT
TZOFFSETFROM:+0100
TZOFFSETTO:+0200
TZNAME:CEST
DTSTART:20170326T010000
END:DAYLIGHT
BEGIN:STANDARD
TZOFFSETFROM:+0200
TZOFFSETTO:+0100
TZNAME:CET
DTSTART:20171029T010000
END:STANDARD
BEGIN:DAYLIGHT
TZOFFSETFROM:+0100
TZOFFSETTO:+0200
TZNAME:CEST
DTSTART:20180325T010000
END:DAYLIGHT
BEGIN:STANDARD
TZOFFSETFROM:+0200
TZOFFSETTO:+0100
TZNAME:CET
DTSTART:20181028T010000
END:STANDARD
END:VTIMEZONE
BEGIN:VEVENT
DTSTART;VALUE=DATE:20170728
DTEND;VALUE=DATE:20170729
DTSTAMP:20260421T074727
CREATED:20170202T150120Z
LAST-MODIFIED:20170206T132624Z
UID:10000746-1501200000-1501286399@bsw-muenster.de
SUMMARY:Vorlesungsende SoSe 2017 WWU
DESCRIPTION:
URL:https://bsw-muenster.de/event/vorlesungsende-sose-2017-wwu/
CATEGORIES:Sonstige
END:VEVENT
BEGIN:VEVENT
DTSTART;VALUE=DATE:20170728
DTEND;VALUE=DATE:20170729
DTSTAMP:20260421T074727
CREATED:20170202T151859Z
LAST-MODIFIED:20170206T134941Z
UID:10000764-1501200000-1501286399@bsw-muenster.de
SUMMARY:Vorlesungsende SoSe 2017 FH Münster
DESCRIPTION:
URL:https://bsw-muenster.de/event/vorlesungsende-sose-2017-fh-muenster/
CATEGORIES:Sonstige
END:VEVENT
END:VCALENDAR