BEGIN:VCALENDAR
VERSION:2.0
PRODID:-//BSW Münster - ECPv6.15.12.2//NONSGML v1.0//EN
CALSCALE:GREGORIAN
METHOD:PUBLISH
X-ORIGINAL-URL:https://bsw-muenster.de
X-WR-CALDESC:Veranstaltungen für BSW Münster
REFRESH-INTERVAL;VALUE=DURATION:PT1H
X-Robots-Tag:noindex
X-PUBLISHED-TTL:PT1H
BEGIN:VTIMEZONE
TZID:Europe/Berlin
BEGIN:DAYLIGHT
TZOFFSETFROM:+0100
TZOFFSETTO:+0200
TZNAME:CEST
DTSTART:20160327T010000
END:DAYLIGHT
BEGIN:STANDARD
TZOFFSETFROM:+0200
TZOFFSETTO:+0100
TZNAME:CET
DTSTART:20161030T010000
END:STANDARD
BEGIN:DAYLIGHT
TZOFFSETFROM:+0100
TZOFFSETTO:+0200
TZNAME:CEST
DTSTART:20170326T010000
END:DAYLIGHT
BEGIN:STANDARD
TZOFFSETFROM:+0200
TZOFFSETTO:+0100
TZNAME:CET
DTSTART:20171029T010000
END:STANDARD
BEGIN:DAYLIGHT
TZOFFSETFROM:+0100
TZOFFSETTO:+0200
TZNAME:CEST
DTSTART:20180325T010000
END:DAYLIGHT
BEGIN:STANDARD
TZOFFSETFROM:+0200
TZOFFSETTO:+0100
TZNAME:CET
DTSTART:20181028T010000
END:STANDARD
END:VTIMEZONE
BEGIN:VEVENT
DTSTART;TZID=Europe/Berlin:20170729T160000
DTEND;TZID=Europe/Berlin:20170729T160000
DTSTAMP:20260420T235101
CREATED:20170608T145246Z
LAST-MODIFIED:20170608T145246Z
UID:10000847-1501344000-1501344000@bsw-muenster.de
SUMMARY:Grillen (Jakob)
DESCRIPTION:Gartennutzung intern.
URL:https://bsw-muenster.de/event/grillen-jakob/
LOCATION:Collegium Marianum\, Frauenstraße 3-6\, Münster\, NRW\, 48143\, Deutschland
CATEGORIES:Kalender Collegium Marianum (intern)
GEO:51.96365;7.62131
X-APPLE-STRUCTURED-LOCATION;VALUE=URI;X-ADDRESS=Collegium Marianum Frauenstraße 3-6 Münster NRW 48143 Deutschland;X-APPLE-RADIUS=500;X-TITLE=Frauenstraße 3-6:geo:7.62131,51.96365
END:VEVENT
END:VCALENDAR