BEGIN:VCALENDAR
VERSION:2.0
PRODID:-//BSW Münster - ECPv6.15.12.2//NONSGML v1.0//EN
CALSCALE:GREGORIAN
METHOD:PUBLISH
X-ORIGINAL-URL:https://bsw-muenster.de
X-WR-CALDESC:Veranstaltungen für BSW Münster
REFRESH-INTERVAL;VALUE=DURATION:PT1H
X-Robots-Tag:noindex
X-PUBLISHED-TTL:PT1H
BEGIN:VTIMEZONE
TZID:Europe/Berlin
BEGIN:DAYLIGHT
TZOFFSETFROM:+0100
TZOFFSETTO:+0200
TZNAME:CEST
DTSTART:20150329T010000
END:DAYLIGHT
BEGIN:STANDARD
TZOFFSETFROM:+0200
TZOFFSETTO:+0100
TZNAME:CET
DTSTART:20151025T010000
END:STANDARD
BEGIN:DAYLIGHT
TZOFFSETFROM:+0100
TZOFFSETTO:+0200
TZNAME:CEST
DTSTART:20160327T010000
END:DAYLIGHT
BEGIN:STANDARD
TZOFFSETFROM:+0200
TZOFFSETTO:+0100
TZNAME:CET
DTSTART:20161030T010000
END:STANDARD
BEGIN:DAYLIGHT
TZOFFSETFROM:+0100
TZOFFSETTO:+0200
TZNAME:CEST
DTSTART:20170326T010000
END:DAYLIGHT
BEGIN:STANDARD
TZOFFSETFROM:+0200
TZOFFSETTO:+0100
TZNAME:CET
DTSTART:20171029T010000
END:STANDARD
BEGIN:DAYLIGHT
TZOFFSETFROM:+0100
TZOFFSETTO:+0200
TZNAME:CEST
DTSTART:20180325T010000
END:DAYLIGHT
BEGIN:STANDARD
TZOFFSETFROM:+0200
TZOFFSETTO:+0100
TZNAME:CET
DTSTART:20181028T010000
END:STANDARD
END:VTIMEZONE
BEGIN:VEVENT
DTSTART;TZID=Europe/Berlin:20170510T163000
DTEND;TZID=Europe/Berlin:20170510T180000
DTSTAMP:20260420T061301
CREATED:20170515T194453Z
LAST-MODIFIED:20170515T194453Z
UID:10000803-1494433800-1494439200@bsw-muenster.de
SUMMARY:Treffen mit Kaffee (Innenhof)
DESCRIPTION:Das Heimsprecherteam und der Koordinator Johannes Fleer laden alle Bewohner ganz herzlich zum gemütlichen Austausch bei Kaffee und Kuchen ein.
URL:https://bsw-muenster.de/event/treffen-mit-kaffee-innenhof/
LOCATION:Thomas-Morus-Kolleg\, Nünningweg 131\, Münster\, NRW\, 48161\, Deutschland
CATEGORIES:Kalender Thomas-Morus-Kolleg (intern)
GEO:51.97013;7.55821
X-APPLE-STRUCTURED-LOCATION;VALUE=URI;X-ADDRESS=Thomas-Morus-Kolleg Nünningweg 131 Münster NRW 48161 Deutschland;X-APPLE-RADIUS=500;X-TITLE=Nünningweg 131:geo:7.55821,51.97013
END:VEVENT
BEGIN:VEVENT
DTSTART;VALUE=DATE:20170509
DTEND;VALUE=DATE:20170510
DTSTAMP:20260420T061301
CREATED:20170419T125056Z
LAST-MODIFIED:20170419T141436Z
UID:10000789-1494288000-1494374399@bsw-muenster.de
SUMMARY:Planwagenfahrt (DSH)
DESCRIPTION:Die Tutoren organisieren eine Planwagenfahrt.\nDer Termin und die Durchführung ist abhängig von Teilnehmerzahl. \nWeitere Informationen werden ausgehangen.
URL:https://bsw-muenster.de/event/planwagenfahrt-bei-wasserkoenigs/
CATEGORIES:DSH
END:VEVENT
BEGIN:VEVENT
DTSTART;TZID=Europe/Berlin:20170504T201500
DTEND;TZID=Europe/Berlin:20170504T223000
DTSTAMP:20260420T061301
CREATED:20170515T194139Z
LAST-MODIFIED:20170515T194559Z
UID:10000802-1493928900-1493937000@bsw-muenster.de
SUMMARY:Gesellschaftsspieleabend (Kaminraum)
DESCRIPTION:Back to the tisch!\nHerzliche Einladung zum gemeinsamen Spieleabend im TMK. Abwechslungsreiche Brett und Kartenspiele warten darauf gespielt zu werden.
URL:https://bsw-muenster.de/event/gesellschaftsspieleabend/
LOCATION:Thomas-Morus-Kolleg\, Nünningweg 131\, Münster\, NRW\, 48161\, Deutschland
CATEGORIES:Kalender Thomas-Morus-Kolleg (intern)
GEO:51.97013;7.55821
X-APPLE-STRUCTURED-LOCATION;VALUE=URI;X-ADDRESS=Thomas-Morus-Kolleg Nünningweg 131 Münster NRW 48161 Deutschland;X-APPLE-RADIUS=500;X-TITLE=Nünningweg 131:geo:7.55821,51.97013
END:VEVENT
BEGIN:VEVENT
DTSTART;TZID=Europe/Berlin:20170504T200000
DTEND;TZID=Europe/Berlin:20170504T220000
DTSTAMP:20260420T061301
CREATED:20170412T095053Z
LAST-MODIFIED:20170412T095053Z
UID:10000785-1493928000-1493935200@bsw-muenster.de
SUMMARY:Wir müssen reden! Studierende fragen – Politiker antworten - Diskussionsveranstaltung der KSHG
DESCRIPTION:Am 14. Mai 2017 wird in NRW gewählt. Das geht auch dich was an! Damit du einen Überblick bekommst\, wer und vor allem was zur Wahl steht\, haben wir die Spitzenkandidaten aller relevanten Parteien zum Gespräch eingeladen. Es kommt auf deine Fragen an!
URL:https://bsw-muenster.de/event/wir-muessen-reden-studierende-fragen-politiker-antworten-diskussionsveranstaltung-der-kshg/
LOCATION:Aula der KSHG\, Frauenstraße 3-6\, Münster\, NRW\, 48143\, Deutschland
CATEGORIES:KSHG
GEO:51.96365;7.62131
X-APPLE-STRUCTURED-LOCATION;VALUE=URI;X-ADDRESS=Aula der KSHG Frauenstraße 3-6 Münster NRW 48143 Deutschland;X-APPLE-RADIUS=500;X-TITLE=Frauenstraße 3-6:geo:7.62131,51.96365
END:VEVENT
BEGIN:VEVENT
DTSTART;TZID=Europe/Berlin:20170503T201500
DTEND;TZID=Europe/Berlin:20170503T220000
DTSTAMP:20260420T061301
CREATED:20170515T193559Z
LAST-MODIFIED:20170515T194529Z
UID:10000801-1493842500-1493848800@bsw-muenster.de
SUMMARY:Kinoabend im TMK (Fernsehraum)
DESCRIPTION:Das Tutorium lädt zum Kinoabend ein. Gezeigt wird: Monty Pythons: Der Sinn des Lebens Der Sinn des Lebens ist eine Satire der britischen Komikertruppe Monty Python. Er enthält komische bis skurrile Episoden aus den verschiedenen Lebensabschnitten\, die sich alle direkt oder indirekt mit dem Sinn des Lebens beschäftigen\, genauer gesagt mit dem Scheitern sämtlicher Versuche\, eine befriedigende Antwort auf die Frage zu finden\, worin er denn bestehe.
URL:https://bsw-muenster.de/event/kinoabend-im-tmk-3/
LOCATION:Thomas-Morus-Kolleg\, Nünningweg 131\, Münster\, NRW\, 48161\, Deutschland
CATEGORIES:Kalender Thomas-Morus-Kolleg (intern)
GEO:51.97013;7.55821
X-APPLE-STRUCTURED-LOCATION;VALUE=URI;X-ADDRESS=Thomas-Morus-Kolleg Nünningweg 131 Münster NRW 48161 Deutschland;X-APPLE-RADIUS=500;X-TITLE=Nünningweg 131:geo:7.55821,51.97013
END:VEVENT
BEGIN:VEVENT
DTSTART;VALUE=DATE:20170501
DTEND;VALUE=DATE:20170502
DTSTAMP:20260420T061301
CREATED:20170419T124913Z
LAST-MODIFIED:20170419T141217Z
UID:10000788-1493596800-1493683199@bsw-muenster.de
SUMMARY:Maiwanderung (DSH)
DESCRIPTION:Die Tutoren organisieren eine Maiwanderung für die Bewohner des Deutschen Studentenheims.\nGenauere Informationen werden ausgehangen. \n 
URL:https://bsw-muenster.de/event/maiwanderung/
CATEGORIES:DSH
END:VEVENT
BEGIN:VEVENT
DTSTART;TZID=Europe/Berlin:20170428T183000
DTEND;TZID=Europe/Berlin:20170428T213000
DTSTAMP:20260420T061301
CREATED:20170421T105407Z
LAST-MODIFIED:20170425T162349Z
UID:10000794-1493404200-1493415000@bsw-muenster.de
SUMMARY:Ausstellungseröffnung im Café Milagro
DESCRIPTION:Die KSHG organisiert regelmäßige Ausstellungen von Künstlerinnen und Künstler oder als Dokumentationen von besonderen Veranstaltungen. \nDiese Ausstellungen werden immer in einem besonderen Rahmen eröffnet. \nAlle interessierten Studentinnen und Studenten sind sehr herzlich dazu eingeladen. \nSchau mal über den Tellerrand … und sieh wie aufregend unsere Welt ist! \nAusstellungseröffnung von Lena Schniering
URL:https://bsw-muenster.de/event/ausstellungseroeffnung-im-cafe-milagro/
LOCATION:Café Milagro\, Frauenstr. 3-6\, Münster\, NRW\, 48143\, Deutschland
CATEGORIES:Café Milagro,KSHG
GEO:51.96365;7.62131
X-APPLE-STRUCTURED-LOCATION;VALUE=URI;X-ADDRESS=Café Milagro Frauenstr. 3-6 Münster NRW 48143 Deutschland;X-APPLE-RADIUS=500;X-TITLE=Frauenstr. 3-6:geo:7.62131,51.96365
END:VEVENT
BEGIN:VEVENT
DTSTART;TZID=Europe/Berlin:20170427T193000
DTEND;TZID=Europe/Berlin:20170427T230000
DTSTAMP:20260420T061301
CREATED:20170130T113304Z
LAST-MODIFIED:20170206T142432Z
UID:10000739-1493321400-1493334000@bsw-muenster.de
SUMMARY:Pubquiz im Café Milagro
DESCRIPTION:Alle Besucherinnen und Besucher sind an diesem Abend herzlich eingeladen mit zu raten!
URL:https://bsw-muenster.de/event/pubquiz-im-cafe-milagro/
LOCATION:Café Milagro\, Frauenstr. 3-6\, Münster\, NRW\, 48143\, Deutschland
CATEGORIES:Café Milagro
ORGANIZER;CN="Bisch%C3%B6fliches Studierendenwerk / P%C3%A4dagogische Studienbegleitung":MAILTO:vonderbeeke-k@bistum-muenster.de
GEO:51.96365;7.62131
X-APPLE-STRUCTURED-LOCATION;VALUE=URI;X-ADDRESS=Café Milagro Frauenstr. 3-6 Münster NRW 48143 Deutschland;X-APPLE-RADIUS=500;X-TITLE=Frauenstr. 3-6:geo:7.62131,51.96365
END:VEVENT
BEGIN:VEVENT
DTSTART;VALUE=DATE:20170424
DTEND;VALUE=DATE:20170425
DTSTAMP:20260420T061301
CREATED:20170419T124817Z
LAST-MODIFIED:20170419T141027Z
UID:10000787-1492992000-1493078399@bsw-muenster.de
SUMMARY:Grillen auf der Dachterrasse (DSH)
DESCRIPTION:Die Tutoren laden zu einem gemütlichen Abend auf der Dachterrasse des Breuls ein.\nFür Getränke und Speisen ist gesorgt. \n(Veranstaltung nur für Bewohner des DSH)
URL:https://bsw-muenster.de/event/grillen-auf-der-dachterasse/
CATEGORIES:DSH
END:VEVENT
BEGIN:VEVENT
DTSTART;TZID=Europe/Berlin:20170420T190000
DTEND;TZID=Europe/Berlin:20170420T235900
DTSTAMP:20260420T061301
CREATED:20170317T093311Z
LAST-MODIFIED:20170317T093934Z
UID:10000777-1492714800-1492732740@bsw-muenster.de
SUMMARY:Öffentlicher Barabend im Fürstin-von-Gallitzin-Heim (FvG)
DESCRIPTION:Die Bewohnerinnen des Fürstin-von-Gallitzin-Heims veranstalten einen Barabend in der Kellerbar.\nEingeladen sind neben allen Bewohnerinnen des Hauses auch die Bewohnerinnen und Bewohner der weiteren Einrichtungen im Bischöflichen Studierendenwerk.
URL:https://bsw-muenster.de/event/oeffentlicher-barabend-im-fuerstin-von-gallitzin-heim-fvg/
LOCATION:Fürstin-von-Gallitzin-Heim\, Frauenstraße 21-23\, Münster\, NRW\, 48143\, Deutschland
CATEGORIES:FvG
ORGANIZER;CN="Bewohnerinnen FvG":MAILTO:oberfuerstinnen@gmx.de
GEO:51.963319;7.6189299
X-APPLE-STRUCTURED-LOCATION;VALUE=URI;X-ADDRESS=Fürstin-von-Gallitzin-Heim Frauenstraße 21-23 Münster NRW 48143 Deutschland;X-APPLE-RADIUS=500;X-TITLE=Frauenstraße 21-23:geo:7.6189299,51.963319
END:VEVENT
BEGIN:VEVENT
DTSTART;VALUE=DATE:20170418
DTEND;VALUE=DATE:20170419
DTSTAMP:20260420T061301
CREATED:20170202T145850Z
LAST-MODIFIED:20170206T141554Z
UID:10000744-1492473600-1492559999@bsw-muenster.de
SUMMARY:Vorlesungsbeginn SoSe 2017 WWU
DESCRIPTION:
URL:https://bsw-muenster.de/event/vorlesungsbeginn-an-der-wwu/
CATEGORIES:Sonstige
END:VEVENT
BEGIN:VEVENT
DTSTART;TZID=Europe/Berlin:20170414T123000
DTEND;TZID=Europe/Berlin:20170414T150000
DTSTAMP:20260420T061301
CREATED:20170412T092707Z
LAST-MODIFIED:20170412T092830Z
UID:10000781-1492173000-1492182000@bsw-muenster.de
SUMMARY:"Struwen-Essen" im Café Milagro
DESCRIPTION:Die KSHG will  gemeinsam – so wie es in Münster üblich ist – an Karfreitag Struwen essen. Da die Plätze jedes Jahr heiß begehrt sind\, beeilt euch mit der Anmeldung!\nAnmeldeschluss ist  er 12.04.2017.
URL:https://bsw-muenster.de/event/struwen-essen-im-cafe-milagro/
LOCATION:Café Milagro\, Frauenstr. 3-6\, Münster\, NRW\, 48143\, Deutschland
CATEGORIES:Café Milagro,KSHG
ATTACH;FMTTYPE=image/jpeg:https://bsw-muenster.de/content/uploads/2017/04/struwen-essen.jpg
GEO:51.96365;7.62131
X-APPLE-STRUCTURED-LOCATION;VALUE=URI;X-ADDRESS=Café Milagro Frauenstr. 3-6 Münster NRW 48143 Deutschland;X-APPLE-RADIUS=500;X-TITLE=Frauenstr. 3-6:geo:7.62131,51.96365
END:VEVENT
BEGIN:VEVENT
DTSTART;TZID=Europe/Berlin:20170413T150000
DTEND;TZID=Europe/Berlin:20170413T150000
DTSTAMP:20260420T061301
CREATED:20170403T095959Z
LAST-MODIFIED:20170403T095959Z
UID:10000779-1492095600-1492095600@bsw-muenster.de
SUMMARY:Café Milagro ab 15:00 Uhr geschlossen
DESCRIPTION:Am Gründonnerstag schließt das Café Milagro nach der Ausgabe des Mittagsangebotes um 15:00 Uhr.
URL:https://bsw-muenster.de/event/cafe-milagro-ab-1500-uhr-geschlossen/
CATEGORIES:Café Milagro
END:VEVENT
BEGIN:VEVENT
DTSTART;VALUE=DATE:20170403
DTEND;VALUE=DATE:20170404
DTSTAMP:20260420T061301
CREATED:20170202T151737Z
LAST-MODIFIED:20170206T141800Z
UID:10000763-1491177600-1491263999@bsw-muenster.de
SUMMARY:Vorlesungsbeginn SoSe 2017 FH Münster
DESCRIPTION:
URL:https://bsw-muenster.de/event/vorlesungsbeginn-sose-2017-fh-muenster/
CATEGORIES:Sonstige
END:VEVENT
BEGIN:VEVENT
DTSTART;VALUE=DATE:20170210
DTEND;VALUE=DATE:20170211
DTSTAMP:20260420T061301
CREATED:20170202T151300Z
LAST-MODIFIED:20170206T142026Z
UID:10000759-1486684800-1486771199@bsw-muenster.de
SUMMARY:Vorlesungsende WiSe 2016/2017 WWU
DESCRIPTION:
URL:https://bsw-muenster.de/event/vorlesungsende-wise-20162017-wwu/
CATEGORIES:Sonstige
END:VEVENT
BEGIN:VEVENT
DTSTART;VALUE=DATE:20170203
DTEND;VALUE=DATE:20170204
DTSTAMP:20260420T061301
CREATED:20170202T151606Z
LAST-MODIFIED:20170206T143136Z
UID:10000762-1486080000-1486166399@bsw-muenster.de
SUMMARY:Vorlesungsende WiSe 2016/2017 FH Münster
DESCRIPTION:
URL:https://bsw-muenster.de/event/vorlesungsende-wise-20162017-fh-muenster/
CATEGORIES:Sonstige
END:VEVENT
BEGIN:VEVENT
DTSTART;TZID=Europe/Berlin:20170131T200000
DTEND;TZID=Europe/Berlin:20170131T230000
DTSTAMP:20260420T061301
CREATED:20161115T121428Z
LAST-MODIFIED:20161115T121428Z
UID:10000681-1485892800-1485903600@bsw-muenster.de
SUMMARY:Kegelabend im LeFeu (TMK)
DESCRIPTION:Auch in diesem Winter bieten wir wieder einen Ausflug zur Kegelbahn des Flammkuchenhauses „LeFeu“ an. Das Kegeln ist für euch kostenfrei. Getränke und Speisen zahlt jeder selbst.\nTreffen am LeFeu (Schlossplatz). \nAnmeldung am schwarzen Brett erforderlich!\n(siehe Aushang ab Di\, 24.01.2017)
URL:https://bsw-muenster.de/event/kegelabend-im-lefeu-tmk/
LOCATION:Thomas-Morus-Kolleg\, Nünningweg 131\, Münster\, NRW\, 48161\, Deutschland
CATEGORIES:TMK
GEO:51.97013;7.55821
X-APPLE-STRUCTURED-LOCATION;VALUE=URI;X-ADDRESS=Thomas-Morus-Kolleg Nünningweg 131 Münster NRW 48161 Deutschland;X-APPLE-RADIUS=500;X-TITLE=Nünningweg 131:geo:7.55821,51.97013
END:VEVENT
BEGIN:VEVENT
DTSTART;TZID=Europe/Berlin:20170131T180000
DTEND;TZID=Europe/Berlin:20170131T220000
DTSTAMP:20260420T061301
CREATED:20161115T121036Z
LAST-MODIFIED:20161115T121036Z
UID:10000680-1485885600-1485900000@bsw-muenster.de
SUMMARY:Gemeinsames Essen im LeFeu (TMK)
DESCRIPTION:Leckere Flammkuchen – so viele ihr essen könnt.\nKosten: 13\,90€ zzgl. Getränke. Treffen am LeFeu (Schlossplatz). \nAnmeldung bis zum 25.11.2016 bei Carsten (21).\n(Kurze Mitteilung in den Briefkasten werfen.)
URL:https://bsw-muenster.de/event/gemeinsames-essen-im-lefeu-tmk/
LOCATION:Thomas-Morus-Kolleg\, Nünningweg 131\, Münster\, NRW\, 48161\, Deutschland
CATEGORIES:TMK
GEO:51.97013;7.55821
X-APPLE-STRUCTURED-LOCATION;VALUE=URI;X-ADDRESS=Thomas-Morus-Kolleg Nünningweg 131 Münster NRW 48161 Deutschland;X-APPLE-RADIUS=500;X-TITLE=Nünningweg 131:geo:7.55821,51.97013
END:VEVENT
BEGIN:VEVENT
DTSTART;TZID=Europe/Berlin:20170124T201500
DTEND;TZID=Europe/Berlin:20170124T230000
DTSTAMP:20260420T061301
CREATED:20161115T120643Z
LAST-MODIFIED:20161115T120715Z
UID:10000677-1485288900-1485298800@bsw-muenster.de
SUMMARY:Tischtennis und Kicker-Turnier (TMK)
DESCRIPTION:Tischtennis – egal ob Profi – oder Amateurspieler – jeder kann mitmachen. Für die Gewinner gibt es Urkunden und Preise.\nKicker – ob im Einzel oder im Doppel – wer setzt sich gegen seine Gegner durch? Auch hier gibt es Urkunden und Preise. \nAnmeldung am schwarzen Brett erwünscht!\n(siehe Aushang ab Di\, 17.01.2017)
URL:https://bsw-muenster.de/event/tischtennis-und-kicker-turnier-tmk/
LOCATION:Thomas-Morus-Kolleg\, Nünningweg 131\, Münster\, NRW\, 48161\, Deutschland
CATEGORIES:TMK
GEO:51.97013;7.55821
X-APPLE-STRUCTURED-LOCATION;VALUE=URI;X-ADDRESS=Thomas-Morus-Kolleg Nünningweg 131 Münster NRW 48161 Deutschland;X-APPLE-RADIUS=500;X-TITLE=Nünningweg 131:geo:7.55821,51.97013
END:VEVENT
BEGIN:VEVENT
DTSTART;TZID=Europe/Berlin:20170122T201500
DTEND;TZID=Europe/Berlin:20170122T223000
DTSTAMP:20260420T061301
CREATED:20161019T171940Z
LAST-MODIFIED:20161019T172036Z
UID:10000716-1485116100-1485124200@bsw-muenster.de
SUMMARY:Impro-Show im Café Milagro
DESCRIPTION:Die Impro-Gruppe der KSHG gibt ihr im Semester erlerntes Können zum Besten. \nDer Eintritt ist frei!
URL:https://bsw-muenster.de/event/impro-show-im-cafe-milagro-2/
LOCATION:Café Milagro\, Frauenstr. 3-6\, Münster\, NRW\, 48143\, Deutschland
CATEGORIES:Café Milagro,KSHG
GEO:51.96365;7.62131
X-APPLE-STRUCTURED-LOCATION;VALUE=URI;X-ADDRESS=Café Milagro Frauenstr. 3-6 Münster NRW 48143 Deutschland;X-APPLE-RADIUS=500;X-TITLE=Frauenstr. 3-6:geo:7.62131,51.96365
END:VEVENT
BEGIN:VEVENT
DTSTART;TZID=Europe/Berlin:20170120T201500
DTEND;TZID=Europe/Berlin:20170120T230000
DTSTAMP:20260420T061301
CREATED:20161115T120403Z
LAST-MODIFIED:20161115T120403Z
UID:10000676-1484943300-1484953200@bsw-muenster.de
SUMMARY:Länderabend: Südamerika (TMK)
DESCRIPTION:Ein informativer und kulinarischer Abend über Südamerika. Bitte Geschirr zum Essen mitbringen. \nAnmeldung am schwarzen Brett für das Essen!\n(siehe Aushang ab Di\, 10.01.2017)
URL:https://bsw-muenster.de/event/laenderabend-suedamerika-tmk/
LOCATION:Thomas-Morus-Kolleg\, Nünningweg 131\, Münster\, NRW\, 48161\, Deutschland
CATEGORIES:TMK
GEO:51.97013;7.55821
X-APPLE-STRUCTURED-LOCATION;VALUE=URI;X-ADDRESS=Thomas-Morus-Kolleg Nünningweg 131 Münster NRW 48161 Deutschland;X-APPLE-RADIUS=500;X-TITLE=Nünningweg 131:geo:7.55821,51.97013
END:VEVENT
BEGIN:VEVENT
DTSTART;TZID=Europe/Berlin:20170113T200000
DTEND;TZID=Europe/Berlin:20170113T235500
DTSTAMP:20260420T061301
CREATED:20170102T134308Z
LAST-MODIFIED:20170102T134508Z
UID:10000738-1484337600-1484351700@bsw-muenster.de
SUMMARY:Frohes Neues! - IV. Neujahrsball der KSHG
DESCRIPTION:Mit der Liveband „The Soulcaptives“ \n  \nLass das Tanzbein schwingen und die Korken knallen! Mit Livemusik\, Abendprogramm und leckeren Getränken feiern wir das Jahr 2017! \nGetanzt wird\, wie man Lust hat\, von Walzer bis Freestyle ist alles drin. Ob allein\, zu zweit oder im Rudel – alle können mitfeiern. \n  \nBeginn 20:00 Uhr\, Einlass ab 19:30 Uhr! \nKartenverkauf: ab sofort im Sekretariat der KSHG\, Vorverkauf 9 Euro\, Abendkasse 12 Euro
URL:https://bsw-muenster.de/event/iv-neujahrsball-der-kshg/
LOCATION:Aula der KSHG\, Frauenstraße 3-6\, Münster\, NRW\, 48143\, Deutschland
CATEGORIES:CM,DSH,FvG,KSHG,LS,Sonstige,TMK
GEO:51.96365;7.62131
X-APPLE-STRUCTURED-LOCATION;VALUE=URI;X-ADDRESS=Aula der KSHG Frauenstraße 3-6 Münster NRW 48143 Deutschland;X-APPLE-RADIUS=500;X-TITLE=Frauenstraße 3-6:geo:7.62131,51.96365
END:VEVENT
BEGIN:VEVENT
DTSTART;TZID=Europe/Berlin:20170112T170000
DTEND;TZID=Europe/Berlin:20170112T170000
DTSTAMP:20260420T061301
CREATED:20161024T162701Z
LAST-MODIFIED:20161025T085819Z
UID:10000667-1484240400-1484240400@bsw-muenster.de
SUMMARY:Team Escape: Münster (DSH)
DESCRIPTION:Tutoriumsveranstaltung im Deutschen Studentenheim (Breul 23)
URL:https://bsw-muenster.de/event/team-escape-muenster-dsh/
LOCATION:Deutsches Studentenheim\, Breul 23\, Münster\, NRW\, 48143\, Deutschland
CATEGORIES:DSH
GEO:51.96662;7.62778
X-APPLE-STRUCTURED-LOCATION;VALUE=URI;X-ADDRESS=Deutsches Studentenheim Breul 23 Münster NRW 48143 Deutschland;X-APPLE-RADIUS=500;X-TITLE=Breul 23:geo:7.62778,51.96662
END:VEVENT
BEGIN:VEVENT
DTSTART;TZID=Europe/Berlin:20170111T200000
DTEND;TZID=Europe/Berlin:20170111T220000
DTSTAMP:20260420T061301
CREATED:20161011T174258Z
LAST-MODIFIED:20161011T174723Z
UID:10000712-1484164800-1484172000@bsw-muenster.de
SUMMARY:Internationaler Abend (FvG)
DESCRIPTION:Einige internationale Mitbewohnerinnen stellen sich und ihr Heimatland vor.\nIn gemeinsamer Runde wird sich über internationale Erfahrungen ausgetauscht und damit das gegenseitige Kennenlernen gefördert. \nIm Anschluss findet ein Spieleabend statt. \n(Nur für Bewohnerinnen im FvG)
URL:https://bsw-muenster.de/event/internationaler-abend-fvg/
LOCATION:Fürstin-von-Gallitzin-Heim\, Frauenstraße 21-23\, Münster\, NRW\, 48143\, Deutschland
CATEGORIES:FvG
GEO:51.963319;7.6189299
X-APPLE-STRUCTURED-LOCATION;VALUE=URI;X-ADDRESS=Fürstin-von-Gallitzin-Heim Frauenstraße 21-23 Münster NRW 48143 Deutschland;X-APPLE-RADIUS=500;X-TITLE=Frauenstraße 21-23:geo:7.6189299,51.963319
END:VEVENT
BEGIN:VEVENT
DTSTART;TZID=Europe/Berlin:20170110T201500
DTEND;TZID=Europe/Berlin:20170110T230000
DTSTAMP:20260420T061301
CREATED:20161115T115831Z
LAST-MODIFIED:20161115T115831Z
UID:10000673-1484079300-1484089200@bsw-muenster.de
SUMMARY:Kinoabend im TMK
DESCRIPTION:Das Tutorium lädt zum Kinoabend ein. Gezeigt wird: Alles Steht Kopf\nIm Hauptquartier\, dem Kontrollzentrum im Kopf der elfjährigen Riley\, leisten fünf Emotionen Schwerstarbeit: Freude\, Angst\, Ekel\, Trauer\, Wut und ihr Zusammenspiel in den Situationen der Pubertät. Ein lustiger Animationsfilm.
URL:https://bsw-muenster.de/event/kinoabend-im-tmk-2/
LOCATION:Thomas-Morus-Kolleg\, Nünningweg 131\, Münster\, NRW\, 48161\, Deutschland
CATEGORIES:TMK
GEO:51.97013;7.55821
X-APPLE-STRUCTURED-LOCATION;VALUE=URI;X-ADDRESS=Thomas-Morus-Kolleg Nünningweg 131 Münster NRW 48161 Deutschland;X-APPLE-RADIUS=500;X-TITLE=Nünningweg 131:geo:7.55821,51.97013
END:VEVENT
BEGIN:VEVENT
DTSTART;TZID=Europe/Berlin:20161221T200000
DTEND;TZID=Europe/Berlin:20161221T220000
DTSTAMP:20260420T061301
CREATED:20160927T142801Z
LAST-MODIFIED:20160927T142801Z
UID:10000705-1482350400-1482357600@bsw-muenster.de
SUMMARY:Candle-Light-Gottesdienst im Dom
DESCRIPTION:Jährliche Veranstaltung der KSHG im Paulus-Dom in Münster. \nTolle Atmosphäre\, wenn der Dom nur durch das Licht von hunderten von Kerzen beleuchtet wird!
URL:https://bsw-muenster.de/event/candle-light-gottesdienst-im-dom/
LOCATION:Paulus-Dom\, Domplatz\, Münster\, NRW\, 48143\, Deutschland
CATEGORIES:KSHG
GEO:51.9620774;7.625366
X-APPLE-STRUCTURED-LOCATION;VALUE=URI;X-ADDRESS=Paulus-Dom Domplatz Münster NRW 48143 Deutschland;X-APPLE-RADIUS=500;X-TITLE=Domplatz:geo:7.625366,51.9620774
END:VEVENT
BEGIN:VEVENT
DTSTART;TZID=Europe/Berlin:20161220T193000
DTEND;TZID=Europe/Berlin:20161220T193000
DTSTAMP:20260420T061301
CREATED:20161024T162517Z
LAST-MODIFIED:20161025T095458Z
UID:10000666-1482262200-1482262200@bsw-muenster.de
SUMMARY:Heimmusikabend (DSH)
DESCRIPTION:Tutoriumsveranstaltung im Deutschen Studentenheim (Breul 23)
URL:https://bsw-muenster.de/event/heimmusikabend-dsh/
LOCATION:Deutsches Studentenheim\, Breul 23\, Münster\, NRW\, 48143\, Deutschland
CATEGORIES:DSH
GEO:51.96662;7.62778
X-APPLE-STRUCTURED-LOCATION;VALUE=URI;X-ADDRESS=Deutsches Studentenheim Breul 23 Münster NRW 48143 Deutschland;X-APPLE-RADIUS=500;X-TITLE=Breul 23:geo:7.62778,51.96662
END:VEVENT
BEGIN:VEVENT
DTSTART;TZID=Europe/Berlin:20161219T180000
DTEND;TZID=Europe/Berlin:20161219T220000
DTSTAMP:20260420T061301
CREATED:20161115T115048Z
LAST-MODIFIED:20161115T115048Z
UID:10000672-1482170400-1482184800@bsw-muenster.de
SUMMARY:Adventsfeier im TMK
DESCRIPTION:18:00 Uhr       Gottesdienst in der Kapelle des Haus Mariengrund \n19:30 Uhr        Film: Die Feuerzangenbowle im Kaminraum des TMK mit Glühwein\, Kakao und Weihnachtsgebäck
URL:https://bsw-muenster.de/event/adventsfeier-im-tmk/
LOCATION:Thomas-Morus-Kolleg\, Nünningweg 131\, Münster\, NRW\, 48161\, Deutschland
CATEGORIES:TMK
GEO:51.97013;7.55821
X-APPLE-STRUCTURED-LOCATION;VALUE=URI;X-ADDRESS=Thomas-Morus-Kolleg Nünningweg 131 Münster NRW 48161 Deutschland;X-APPLE-RADIUS=500;X-TITLE=Nünningweg 131:geo:7.55821,51.97013
END:VEVENT
BEGIN:VEVENT
DTSTART;TZID=Europe/Berlin:20161215T190000
DTEND;TZID=Europe/Berlin:20161215T220000
DTSTAMP:20260420T061301
CREATED:20161115T114205Z
LAST-MODIFIED:20161115T114324Z
UID:10000669-1481828400-1481839200@bsw-muenster.de
SUMMARY:Adventskino (TMK)
DESCRIPTION:Das Tutorium lädt zum weihnachtlichen Kinoabend mit Glühwein und Keksen ein. \nGezeigt wird: Kevin – Allein zu Haus \nWas passiert\, wenn deine Familie in den Urlaub fliegt und du vergessen wirst? Eine lustige Weihnachtskomödie. \n 
URL:https://bsw-muenster.de/event/adventskino-tmk/
LOCATION:Thomas-Morus-Kolleg\, Nünningweg 131\, Münster\, NRW\, 48161\, Deutschland
CATEGORIES:TMK
GEO:51.97013;7.55821
X-APPLE-STRUCTURED-LOCATION;VALUE=URI;X-ADDRESS=Thomas-Morus-Kolleg Nünningweg 131 Münster NRW 48161 Deutschland;X-APPLE-RADIUS=500;X-TITLE=Nünningweg 131:geo:7.55821,51.97013
END:VEVENT
BEGIN:VEVENT
DTSTART;TZID=Europe/Berlin:20161213T201500
DTEND;TZID=Europe/Berlin:20161213T230000
DTSTAMP:20260420T061301
CREATED:20161115T113512Z
LAST-MODIFIED:20161115T113631Z
UID:10000668-1481660100-1481670000@bsw-muenster.de
SUMMARY:Länderabend: Syrien (TMK)
DESCRIPTION:Wie wird in Syrien Weihnachten gefeiert?\nEin informativer und kulinarischer Abend über das Land Syrien. Bitte Geschirr zum Essen mitbringen. \nAnmeldung am schwarzen Brett für das Essen!\n(siehe Aushang ab Di\, 06.12.2016)
URL:https://bsw-muenster.de/event/laenderabend-syrien-tmk/
LOCATION:Thomas-Morus-Kolleg\, Nünningweg 131\, Münster\, NRW\, 48161\, Deutschland
CATEGORIES:TMK
GEO:51.97013;7.55821
X-APPLE-STRUCTURED-LOCATION;VALUE=URI;X-ADDRESS=Thomas-Morus-Kolleg Nünningweg 131 Münster NRW 48161 Deutschland;X-APPLE-RADIUS=500;X-TITLE=Nünningweg 131:geo:7.55821,51.97013
END:VEVENT
END:VCALENDAR