BEGIN:VCALENDAR
VERSION:2.0
PRODID:-//BSW Münster - ECPv6.15.12.2//NONSGML v1.0//EN
CALSCALE:GREGORIAN
METHOD:PUBLISH
X-ORIGINAL-URL:https://bsw-muenster.de
X-WR-CALDESC:Veranstaltungen für BSW Münster
REFRESH-INTERVAL;VALUE=DURATION:PT1H
X-Robots-Tag:noindex
X-PUBLISHED-TTL:PT1H
BEGIN:VTIMEZONE
TZID:Europe/Berlin
BEGIN:DAYLIGHT
TZOFFSETFROM:+0100
TZOFFSETTO:+0200
TZNAME:CEST
DTSTART:20160327T010000
END:DAYLIGHT
BEGIN:STANDARD
TZOFFSETFROM:+0200
TZOFFSETTO:+0100
TZNAME:CET
DTSTART:20161030T010000
END:STANDARD
BEGIN:DAYLIGHT
TZOFFSETFROM:+0100
TZOFFSETTO:+0200
TZNAME:CEST
DTSTART:20170326T010000
END:DAYLIGHT
BEGIN:STANDARD
TZOFFSETFROM:+0200
TZOFFSETTO:+0100
TZNAME:CET
DTSTART:20171029T010000
END:STANDARD
BEGIN:DAYLIGHT
TZOFFSETFROM:+0100
TZOFFSETTO:+0200
TZNAME:CEST
DTSTART:20180325T010000
END:DAYLIGHT
BEGIN:STANDARD
TZOFFSETFROM:+0200
TZOFFSETTO:+0100
TZNAME:CET
DTSTART:20181028T010000
END:STANDARD
END:VTIMEZONE
BEGIN:VEVENT
DTSTART;TZID=Europe/Berlin:20170711T123000
DTEND;TZID=Europe/Berlin:20170711T124500
DTSTAMP:20260425T152401
CREATED:20170531T152604Z
LAST-MODIFIED:20170531T152604Z
UID:10000760-1499776200-1499777100@bsw-muenster.de
SUMMARY:Atempause - Impuls
DESCRIPTION:Impuls vor dem Mittagessen. \nHerzliche Einladung ins Lesezimmer.
URL:https://bsw-muenster.de/event/atempause-impuls/
LOCATION:DSH – Lesezimmer\, Breul 23\, Münster\, 48143\, Deutschland
CATEGORIES:Kalender Deutsches Studentenheim (intern)
GEO:51.96662;7.62778
X-APPLE-STRUCTURED-LOCATION;VALUE=URI;X-ADDRESS=DSH – Lesezimmer Breul 23 Münster 48143 Deutschland;X-APPLE-RADIUS=500;X-TITLE=Breul 23:geo:7.62778,51.96662
END:VEVENT
BEGIN:VEVENT
DTSTART;TZID=Europe/Berlin:20170712T180000
DTEND;TZID=Europe/Berlin:20170712T180000
DTSTAMP:20260425T152401
CREATED:20170621T121323Z
LAST-MODIFIED:20170621T121323Z
UID:10000851-1499882400-1499882400@bsw-muenster.de
SUMMARY:Grillen des KSHG-Orchesters
DESCRIPTION:Gartennutzung extern.
URL:https://bsw-muenster.de/event/grillen-des-kshg-orchesters/
CATEGORIES:Kalender Collegium Marianum (intern)
END:VEVENT
BEGIN:VEVENT
DTSTART;TZID=Europe/Berlin:20170716T201500
DTEND;TZID=Europe/Berlin:20170716T221500
DTSTAMP:20260425T152401
CREATED:20161019T170816Z
LAST-MODIFIED:20170511T132729Z
UID:10000715-1500236100-1500243300@bsw-muenster.de
SUMMARY:Impro-Show der KSHG im Café Milagro
DESCRIPTION:Improtheater sorgt für Muskelkater im Zwerchfell und tränende Augen. Temporeich und humorvoll erfüllen die Impro-Schüler dem Publikum jeden Wunsch und setzen von jetzt auf gleich die Vorgaben des Publikums in aufregende Szenen um. Die Folge: Niemand weiß\, was passieren wird. Aber eins ist sicher: Es wird ein großer Spaß. \nDer Studierendenkurs der KSHG/placebo-Improschule zeigt an diesem Abend\, was er in diesem Semester gelernt hat- Komm vorbei und lache mit! \n 
URL:https://bsw-muenster.de/event/impro-show-im-cafe-milagro/
LOCATION:Café Milagro\, Frauenstr. 3-6\, Münster\, NRW\, 48143\, Deutschland
CATEGORIES:Café Milagro,KSHG
GEO:51.96365;7.62131
X-APPLE-STRUCTURED-LOCATION;VALUE=URI;X-ADDRESS=Café Milagro Frauenstr. 3-6 Münster NRW 48143 Deutschland;X-APPLE-RADIUS=500;X-TITLE=Frauenstr. 3-6:geo:7.62131,51.96365
END:VEVENT
END:VCALENDAR