BEGIN:VCALENDAR
VERSION:2.0
PRODID:-//BSW Münster - ECPv6.15.12.2//NONSGML v1.0//EN
CALSCALE:GREGORIAN
METHOD:PUBLISH
X-WR-CALNAME:BSW Münster
X-ORIGINAL-URL:https://bsw-muenster.de
X-WR-CALDESC:Veranstaltungen für BSW Münster
REFRESH-INTERVAL;VALUE=DURATION:PT1H
X-Robots-Tag:noindex
X-PUBLISHED-TTL:PT1H
BEGIN:VTIMEZONE
TZID:Europe/Berlin
BEGIN:DAYLIGHT
TZOFFSETFROM:+0100
TZOFFSETTO:+0200
TZNAME:CEST
DTSTART:20160327T010000
END:DAYLIGHT
BEGIN:STANDARD
TZOFFSETFROM:+0200
TZOFFSETTO:+0100
TZNAME:CET
DTSTART:20161030T010000
END:STANDARD
BEGIN:DAYLIGHT
TZOFFSETFROM:+0100
TZOFFSETTO:+0200
TZNAME:CEST
DTSTART:20170326T010000
END:DAYLIGHT
BEGIN:STANDARD
TZOFFSETFROM:+0200
TZOFFSETTO:+0100
TZNAME:CET
DTSTART:20171029T010000
END:STANDARD
BEGIN:DAYLIGHT
TZOFFSETFROM:+0100
TZOFFSETTO:+0200
TZNAME:CEST
DTSTART:20180325T010000
END:DAYLIGHT
BEGIN:STANDARD
TZOFFSETFROM:+0200
TZOFFSETTO:+0100
TZNAME:CET
DTSTART:20181028T010000
END:STANDARD
END:VTIMEZONE
BEGIN:VEVENT
DTSTART;TZID=Europe/Berlin:20170718T190000
DTEND;TZID=Europe/Berlin:20170718T190000
DTSTAMP:20260421T163822
CREATED:20170704T153559Z
LAST-MODIFIED:20170704T153559Z
UID:10000855-1500404400-1500404400@bsw-muenster.de
SUMMARY:Grillen (1-West)
DESCRIPTION:Gartennutzung intern.
URL:https://bsw-muenster.de/event/grillen-1-west/
CATEGORIES:Kalender Collegium Marianum (intern)
END:VEVENT
BEGIN:VEVENT
DTSTART;TZID=Europe/Berlin:20170718T201500
DTEND;TZID=Europe/Berlin:20170718T230000
DTSTAMP:20260421T163822
CREATED:20170515T201254Z
LAST-MODIFIED:20170515T201254Z
UID:10000818-1500408900-1500418800@bsw-muenster.de
SUMMARY:Kinoabend im TMK (Fernsehraum)
DESCRIPTION:Das Tutorium lädt zum Kinoabend ein.\nGezeigt wird: „Captain America: Civil War“ \n 
URL:https://bsw-muenster.de/event/kinoabend-im-tmk-fernsehraum/
LOCATION:Thomas-Morus-Kolleg\, Nünningweg 131\, Münster\, NRW\, 48161\, Deutschland
CATEGORIES:Kalender Thomas-Morus-Kolleg (intern)
GEO:51.97013;7.55821
X-APPLE-STRUCTURED-LOCATION;VALUE=URI;X-ADDRESS=Thomas-Morus-Kolleg Nünningweg 131 Münster NRW 48161 Deutschland;X-APPLE-RADIUS=500;X-TITLE=Nünningweg 131:geo:7.55821,51.97013
END:VEVENT
BEGIN:VEVENT
DTSTART;TZID=Europe/Berlin:20170719T190000
DTEND;TZID=Europe/Berlin:20170719T210000
DTSTAMP:20260421T163822
CREATED:20170515T201411Z
LAST-MODIFIED:20170515T201411Z
UID:10000820-1500490800-1500498000@bsw-muenster.de
SUMMARY:TMK-Grillen (Innenhof)
DESCRIPTION:Das Tutorium lädt zum Grillabend ein.\nGetränke und Speisen bringt jeder selbst mit.
URL:https://bsw-muenster.de/event/tmk-grillen-innenhof/
LOCATION:Thomas-Morus-Kolleg\, Nünningweg 131\, Münster\, NRW\, 48161\, Deutschland
CATEGORIES:Kalender Thomas-Morus-Kolleg (intern)
GEO:51.97013;7.55821
X-APPLE-STRUCTURED-LOCATION;VALUE=URI;X-ADDRESS=Thomas-Morus-Kolleg Nünningweg 131 Münster NRW 48161 Deutschland;X-APPLE-RADIUS=500;X-TITLE=Nünningweg 131:geo:7.55821,51.97013
END:VEVENT
BEGIN:VEVENT
DTSTART;TZID=Europe/Berlin:20170720T190000
DTEND;TZID=Europe/Berlin:20170720T220000
DTSTAMP:20260421T163822
CREATED:20170713T191229Z
LAST-MODIFIED:20170713T191635Z
UID:10000859-1500577200-1500588000@bsw-muenster.de
SUMMARY:Grill deinen Burger
DESCRIPTION:Was gibt´s besseres als selbstgemachte Burger vom Grill bei Sonnenschein und kühlen Getränken zu verzehren?\nEure Tutoren bieten euch den Spaß an. Zu Planungszwecken bitte bis zum 18. Juli anmelden (persönlich oder per Eintragung im Speisesaal).
URL:https://bsw-muenster.de/event/grill-deinen-burger/
LOCATION:Deutsches Studentenheim\, Breul 23\, Münster\, NRW\, 48143\, Deutschland
CATEGORIES:Kalender Deutsches Studentenheim (intern)
ATTACH;FMTTYPE=image/jpeg:https://bsw-muenster.de/content/uploads/2016/09/slider_dsh_09.jpg
GEO:51.96662;7.62778
X-APPLE-STRUCTURED-LOCATION;VALUE=URI;X-ADDRESS=Deutsches Studentenheim Breul 23 Münster NRW 48143 Deutschland;X-APPLE-RADIUS=500;X-TITLE=Breul 23:geo:7.62778,51.96662
END:VEVENT
BEGIN:VEVENT
DTSTART;TZID=Europe/Berlin:20170720T193000
DTEND;TZID=Europe/Berlin:20170720T193000
DTSTAMP:20260421T163822
CREATED:20170715T104802Z
LAST-MODIFIED:20170715T104802Z
UID:10000861-1500579000-1500579000@bsw-muenster.de
SUMMARY:Grillen (Kristina)
DESCRIPTION:Gartennutzung intern.
URL:https://bsw-muenster.de/event/grillen-kristina/
CATEGORIES:Kalender Collegium Marianum (intern)
END:VEVENT
BEGIN:VEVENT
DTSTART;TZID=Europe/Berlin:20170721T180000
DTEND;TZID=Europe/Berlin:20170721T180000
DTSTAMP:20260421T163822
CREATED:20170622T184726Z
LAST-MODIFIED:20170622T184726Z
UID:10000852-1500660000-1500660000@bsw-muenster.de
SUMMARY:Geburtstagsfeier (Franziska)
DESCRIPTION:Gartennutzung intern.
URL:https://bsw-muenster.de/event/geburtstagsfeier-franziska/
CATEGORIES:Kalender Collegium Marianum (intern)
END:VEVENT
END:VCALENDAR