BEGIN:VCALENDAR
VERSION:2.0
PRODID:-//BSW Münster - ECPv6.15.12.2//NONSGML v1.0//EN
CALSCALE:GREGORIAN
METHOD:PUBLISH
X-ORIGINAL-URL:https://bsw-muenster.de
X-WR-CALDESC:Veranstaltungen für BSW Münster
REFRESH-INTERVAL;VALUE=DURATION:PT1H
X-Robots-Tag:noindex
X-PUBLISHED-TTL:PT1H
BEGIN:VTIMEZONE
TZID:Europe/Berlin
BEGIN:DAYLIGHT
TZOFFSETFROM:+0100
TZOFFSETTO:+0200
TZNAME:CEST
DTSTART:20150329T010000
END:DAYLIGHT
BEGIN:STANDARD
TZOFFSETFROM:+0200
TZOFFSETTO:+0100
TZNAME:CET
DTSTART:20151025T010000
END:STANDARD
BEGIN:DAYLIGHT
TZOFFSETFROM:+0100
TZOFFSETTO:+0200
TZNAME:CEST
DTSTART:20160327T010000
END:DAYLIGHT
BEGIN:STANDARD
TZOFFSETFROM:+0200
TZOFFSETTO:+0100
TZNAME:CET
DTSTART:20161030T010000
END:STANDARD
BEGIN:DAYLIGHT
TZOFFSETFROM:+0100
TZOFFSETTO:+0200
TZNAME:CEST
DTSTART:20170326T010000
END:DAYLIGHT
BEGIN:STANDARD
TZOFFSETFROM:+0200
TZOFFSETTO:+0100
TZNAME:CET
DTSTART:20171029T010000
END:STANDARD
BEGIN:DAYLIGHT
TZOFFSETFROM:+0100
TZOFFSETTO:+0200
TZNAME:CEST
DTSTART:20180325T010000
END:DAYLIGHT
BEGIN:STANDARD
TZOFFSETFROM:+0200
TZOFFSETTO:+0100
TZNAME:CET
DTSTART:20181028T010000
END:STANDARD
END:VTIMEZONE
BEGIN:VEVENT
DTSTART;TZID=Europe/Berlin:20170428T183000
DTEND;TZID=Europe/Berlin:20170428T213000
DTSTAMP:20260420T105423
CREATED:20170421T105407Z
LAST-MODIFIED:20170425T162349Z
UID:10000794-1493404200-1493415000@bsw-muenster.de
SUMMARY:Ausstellungseröffnung im Café Milagro
DESCRIPTION:Die KSHG organisiert regelmäßige Ausstellungen von Künstlerinnen und Künstler oder als Dokumentationen von besonderen Veranstaltungen. \nDiese Ausstellungen werden immer in einem besonderen Rahmen eröffnet. \nAlle interessierten Studentinnen und Studenten sind sehr herzlich dazu eingeladen. \nSchau mal über den Tellerrand … und sieh wie aufregend unsere Welt ist! \nAusstellungseröffnung von Lena Schniering
URL:https://bsw-muenster.de/event/ausstellungseroeffnung-im-cafe-milagro/
LOCATION:Café Milagro\, Frauenstr. 3-6\, Münster\, NRW\, 48143\, Deutschland
CATEGORIES:Café Milagro,KSHG
GEO:51.96365;7.62131
X-APPLE-STRUCTURED-LOCATION;VALUE=URI;X-ADDRESS=Café Milagro Frauenstr. 3-6 Münster NRW 48143 Deutschland;X-APPLE-RADIUS=500;X-TITLE=Frauenstr. 3-6:geo:7.62131,51.96365
END:VEVENT
BEGIN:VEVENT
DTSTART;TZID=Europe/Berlin:20170427T193000
DTEND;TZID=Europe/Berlin:20170427T230000
DTSTAMP:20260420T105423
CREATED:20170130T113304Z
LAST-MODIFIED:20170206T142432Z
UID:10000739-1493321400-1493334000@bsw-muenster.de
SUMMARY:Pubquiz im Café Milagro
DESCRIPTION:Alle Besucherinnen und Besucher sind an diesem Abend herzlich eingeladen mit zu raten!
URL:https://bsw-muenster.de/event/pubquiz-im-cafe-milagro/
LOCATION:Café Milagro\, Frauenstr. 3-6\, Münster\, NRW\, 48143\, Deutschland
CATEGORIES:Café Milagro
ORGANIZER;CN="Bisch%C3%B6fliches Studierendenwerk / P%C3%A4dagogische Studienbegleitung":MAILTO:vonderbeeke-k@bistum-muenster.de
GEO:51.96365;7.62131
X-APPLE-STRUCTURED-LOCATION;VALUE=URI;X-ADDRESS=Café Milagro Frauenstr. 3-6 Münster NRW 48143 Deutschland;X-APPLE-RADIUS=500;X-TITLE=Frauenstr. 3-6:geo:7.62131,51.96365
END:VEVENT
BEGIN:VEVENT
DTSTART;TZID=Europe/Berlin:20170414T123000
DTEND;TZID=Europe/Berlin:20170414T150000
DTSTAMP:20260420T105423
CREATED:20170412T092707Z
LAST-MODIFIED:20170412T092830Z
UID:10000781-1492173000-1492182000@bsw-muenster.de
SUMMARY:"Struwen-Essen" im Café Milagro
DESCRIPTION:Die KSHG will  gemeinsam – so wie es in Münster üblich ist – an Karfreitag Struwen essen. Da die Plätze jedes Jahr heiß begehrt sind\, beeilt euch mit der Anmeldung!\nAnmeldeschluss ist  er 12.04.2017.
URL:https://bsw-muenster.de/event/struwen-essen-im-cafe-milagro/
LOCATION:Café Milagro\, Frauenstr. 3-6\, Münster\, NRW\, 48143\, Deutschland
CATEGORIES:Café Milagro,KSHG
ATTACH;FMTTYPE=image/jpeg:https://bsw-muenster.de/content/uploads/2017/04/struwen-essen.jpg
GEO:51.96365;7.62131
X-APPLE-STRUCTURED-LOCATION;VALUE=URI;X-ADDRESS=Café Milagro Frauenstr. 3-6 Münster NRW 48143 Deutschland;X-APPLE-RADIUS=500;X-TITLE=Frauenstr. 3-6:geo:7.62131,51.96365
END:VEVENT
BEGIN:VEVENT
DTSTART;TZID=Europe/Berlin:20170122T201500
DTEND;TZID=Europe/Berlin:20170122T223000
DTSTAMP:20260420T105423
CREATED:20161019T171940Z
LAST-MODIFIED:20161019T172036Z
UID:10000716-1485116100-1485124200@bsw-muenster.de
SUMMARY:Impro-Show im Café Milagro
DESCRIPTION:Die Impro-Gruppe der KSHG gibt ihr im Semester erlerntes Können zum Besten. \nDer Eintritt ist frei!
URL:https://bsw-muenster.de/event/impro-show-im-cafe-milagro-2/
LOCATION:Café Milagro\, Frauenstr. 3-6\, Münster\, NRW\, 48143\, Deutschland
CATEGORIES:Café Milagro,KSHG
GEO:51.96365;7.62131
X-APPLE-STRUCTURED-LOCATION;VALUE=URI;X-ADDRESS=Café Milagro Frauenstr. 3-6 Münster NRW 48143 Deutschland;X-APPLE-RADIUS=500;X-TITLE=Frauenstr. 3-6:geo:7.62131,51.96365
END:VEVENT
BEGIN:VEVENT
DTSTART;TZID=Europe/Berlin:20161207T200000
DTEND;TZID=Europe/Berlin:20161207T200000
DTSTAMP:20260420T105423
CREATED:20161123T085400Z
LAST-MODIFIED:20161123T085400Z
UID:10000685-1481140800-1481140800@bsw-muenster.de
SUMMARY:Adventsfeier der Mitarbeitenden im Café
DESCRIPTION:Die Mitarbeiterinnen und Mitarbeiter im Café Milagro treffen sich zu einer internen Adventsfeier. \nDas Café Milagro ist an diesem Abend geschlossen!
URL:https://bsw-muenster.de/event/adventsfeier-der-mitarbeitenden-im-cafe/
LOCATION:Café Milagro\, Frauenstr. 3-6\, Münster\, NRW\, 48143\, Deutschland
CATEGORIES:Café Milagro
GEO:51.96365;7.62131
X-APPLE-STRUCTURED-LOCATION;VALUE=URI;X-ADDRESS=Café Milagro Frauenstr. 3-6 Münster NRW 48143 Deutschland;X-APPLE-RADIUS=500;X-TITLE=Frauenstr. 3-6:geo:7.62131,51.96365
END:VEVENT
BEGIN:VEVENT
DTSTART;TZID=Europe/Berlin:20161204T200000
DTEND;TZID=Europe/Berlin:20161204T220000
DTSTAMP:20260420T105423
CREATED:20161018T155323Z
LAST-MODIFIED:20161018T155505Z
UID:10000714-1480881600-1480888800@bsw-muenster.de
SUMMARY:Adventssingen im Café Milagro
DESCRIPTION:Alljährlich in der Vorweihnachtszeit lädt die KSHG zum gemeinsamen Adventssingen ein!
URL:https://bsw-muenster.de/event/adventssingen-im-cafe-milagro/
LOCATION:Café Milagro\, Frauenstr. 3-6\, Münster\, NRW\, 48143\, Deutschland
CATEGORIES:Café Milagro,KSHG
GEO:51.96365;7.62131
X-APPLE-STRUCTURED-LOCATION;VALUE=URI;X-ADDRESS=Café Milagro Frauenstr. 3-6 Münster NRW 48143 Deutschland;X-APPLE-RADIUS=500;X-TITLE=Frauenstr. 3-6:geo:7.62131,51.96365
END:VEVENT
BEGIN:VEVENT
DTSTART;TZID=Europe/Berlin:20161201T200000
DTEND;TZID=Europe/Berlin:20161201T230000
DTSTAMP:20260420T105423
CREATED:20161012T171205Z
LAST-MODIFIED:20161012T171205Z
UID:10000713-1480622400-1480633200@bsw-muenster.de
SUMMARY:Pub-Quiz im Cafe' Milagro
DESCRIPTION:Alle Besucherinnen und Besucher sind an diesem Abend herzlich eingeladen mit zu raten!
URL:https://bsw-muenster.de/event/pub-quiz-im-cafe-milagro/
LOCATION:Café Milagro\, Frauenstr. 3-6\, Münster\, NRW\, 48143\, Deutschland
CATEGORIES:Café Milagro
ORGANIZER;CN="Bisch%C3%B6fliches Studierendenwerk / P%C3%A4dagogische Studienbegleitung":MAILTO:vonderbeeke-k@bistum-muenster.de
GEO:51.96365;7.62131
X-APPLE-STRUCTURED-LOCATION;VALUE=URI;X-ADDRESS=Café Milagro Frauenstr. 3-6 Münster NRW 48143 Deutschland;X-APPLE-RADIUS=500;X-TITLE=Frauenstr. 3-6:geo:7.62131,51.96365
END:VEVENT
BEGIN:VEVENT
DTSTART;TZID=Europe/Berlin:20161128T180000
DTEND;TZID=Europe/Berlin:20161128T180000
DTSTAMP:20260420T105423
CREATED:20161123T085144Z
LAST-MODIFIED:20161128T111038Z
UID:10000684-1480356000-1480356000@bsw-muenster.de
SUMMARY:Mitarbeitendenschulung im Café Milagro
DESCRIPTION:Die Mitarbeiterinnen und Mitarbeiter treffen sich zu einer internen Schulung zu den Abläufen und Vorschriften im Café Milagro. \nDas Café Milagro ist ab 18:00 Uhr geschlossen!
URL:https://bsw-muenster.de/event/mitarbeitendenschulung-im-cafe-milagro/
LOCATION:Café Milagro\, Frauenstr. 3-6\, Münster\, NRW\, 48143\, Deutschland
CATEGORIES:Café Milagro
GEO:51.96365;7.62131
X-APPLE-STRUCTURED-LOCATION;VALUE=URI;X-ADDRESS=Café Milagro Frauenstr. 3-6 Münster NRW 48143 Deutschland;X-APPLE-RADIUS=500;X-TITLE=Frauenstr. 3-6:geo:7.62131,51.96365
END:VEVENT
BEGIN:VEVENT
DTSTART;TZID=Europe/Berlin:20161127T201500
DTEND;TZID=Europe/Berlin:20161127T223000
DTSTAMP:20260420T105423
CREATED:20161010T185407Z
LAST-MODIFIED:20161019T165159Z
UID:10000708-1480277700-1480285800@bsw-muenster.de
SUMMARY:Power-Point-Karaoke im Café Milagro
DESCRIPTION:Referiere spontan\, flexibel und auf deine eigene Art und Weise eine Power-Point-Präsentation\, die du vorher noch nie gesehen hast.\nDas kann nur lustig werden! Auch Zuschauen und mitlachen ist erlaubt. \nEin- und Auftritt frei!
URL:https://bsw-muenster.de/event/power-point-karaoke/
LOCATION:Café Milagro\, Frauenstr. 3-6\, Münster\, NRW\, 48143\, Deutschland
CATEGORIES:Café Milagro,KSHG
GEO:51.96365;7.62131
X-APPLE-STRUCTURED-LOCATION;VALUE=URI;X-ADDRESS=Café Milagro Frauenstr. 3-6 Münster NRW 48143 Deutschland;X-APPLE-RADIUS=500;X-TITLE=Frauenstr. 3-6:geo:7.62131,51.96365
END:VEVENT
BEGIN:VEVENT
DTSTART;TZID=Europe/Berlin:20161106T201500
DTEND;TZID=Europe/Berlin:20161106T223000
DTSTAMP:20260420T105423
CREATED:20161010T184337Z
LAST-MODIFIED:20161019T165435Z
UID:10000707-1478463300-1478471400@bsw-muenster.de
SUMMARY:Poetry Slam im Café Milagro
DESCRIPTION:Beim Poetry Slam im Café Milagro treten Slamer*innen in den Kategorien „Humor“\, „Tiefgang“ und „Herz“ gegeneinander an. Du bist Teil der Jury und kannst für deine Favoriten voten. Moderiert wird der Slam von Kevin Wölk. Komm vorbei uns lass die Texte bei Getränken und Snacks auf dich wirken! \nHast du Lust\, einen eigenen Text\, der mindestens einer dieser Kategorien entspricht\, in 5 1/2 Minuten zum Programm beizusteuern? Herzliche Einladung teilzunehmen! \nAnmeldungen sind erwünscht! Ein spontaner Auftritt ist möglich\, falls noch Plätze frei sind. Melde dich für die Anmeldung bei Theresa Sothmann. \nEin- und Auftritt frei!
URL:https://bsw-muenster.de/event/poetry-slam-im-cafe-milagro-2/
LOCATION:Café Milagro\, Frauenstr. 3-6\, Münster\, NRW\, 48143\, Deutschland
CATEGORIES:Café Milagro,KSHG
GEO:51.96365;7.62131
X-APPLE-STRUCTURED-LOCATION;VALUE=URI;X-ADDRESS=Café Milagro Frauenstr. 3-6 Münster NRW 48143 Deutschland;X-APPLE-RADIUS=500;X-TITLE=Frauenstr. 3-6:geo:7.62131,51.96365
END:VEVENT
BEGIN:VEVENT
DTSTART;TZID=Europe/Berlin:20161017T160000
DTEND;TZID=Europe/Berlin:20161017T173000
DTSTAMP:20260420T105423
CREATED:20160927T132105Z
LAST-MODIFIED:20161007T090727Z
UID:10000698-1476720000-1476725400@bsw-muenster.de
SUMMARY:Beirat Café Milagro
DESCRIPTION:Vertreterinnen und Vertreter der studentischen Mitarbeitenden und die hauptberuflichen Mitarbeitenden treffen sich um das kommende Wintersemester und die Planungen im Café Milagro zu besprechen.
URL:https://bsw-muenster.de/event/beirat-cafe-milagro/
LOCATION:Café Milagro\, Frauenstr. 3-6\, Münster\, NRW\, 48143\, Deutschland
CATEGORIES:Café Milagro
GEO:51.96365;7.62131
X-APPLE-STRUCTURED-LOCATION;VALUE=URI;X-ADDRESS=Café Milagro Frauenstr. 3-6 Münster NRW 48143 Deutschland;X-APPLE-RADIUS=500;X-TITLE=Frauenstr. 3-6:geo:7.62131,51.96365
END:VEVENT
END:VCALENDAR